BEGIN:VCALENDAR
VERSION:2.0
PRODID:-//wp-events-plugin.com//7.2.3.1//EN
TZID:Europe/Berlin
X-WR-TIMEZONE:Europe/Berlin
BEGIN:VEVENT
UID:7@moni-logie.com
DTSTART;TZID=Europe/Berlin:20241124T140000
DTEND;TZID=Europe/Berlin:20241124T170000
DTSTAMP:20241118T161535Z
URL:https://moni-logie.com/events/klageraum/
SUMMARY:Klageraum
DESCRIPTION:Hast du schon mal einen (Klage-)Raum erlebt\, in dem deine Trau
 er oder all die dazugehörigen Gefühle Platz haben? Und zwar nicht "im st
 illen Kämmerlein" sondern getragen von Musik und einer Gruppe Menschen?\n
 \nKlageräume gibt es in vielen Traditionen und werden auch genutzt\, um k
 ollektive Themen zu betrauern und ihnen einen Ausdruck zu geben.\n\nIn uns
 erer Gesellschaft gibt es aber nach wie vor noch einige Tabu's\, was das 
 öffentliche "ausleben" von Gefühlen anbelangt... Das möchte ich ändern
  und öffne somit\, gemeinsam mit wundervollen Musiker*innen für dich die
 sen Raum.\n\nLässt du dich ein auf dieses Experiment und erforschst mit u
 ns\, wie wir Gefühle nicht mehr länger verdrängen\, sondern geschützt 
 zum Ausdruck bringen? Ich freue mich\, wenn du mit dabei bist im wohl 1. K
 lageraum von Luzern.
ATTACH;FMTTYPE=image/jpeg:https://moni-logie.com/wp-content/uploads/2024/1
 1/Klageraum-2.png
END:VEVENT
BEGIN:VTIMEZONE
TZID:Europe/Berlin
X-LIC-LOCATION:Europe/Berlin
BEGIN:STANDARD
DTSTART:20241027T020000
TZOFFSETFROM:+0200
TZOFFSETTO:+0100
TZNAME:CET
END:STANDARD
END:VTIMEZONE
END:VCALENDAR